BEGIN:VCALENDAR
VERSION:2.0
PRODID:icalendar-ruby
CALSCALE:GREGORIAN
METHOD:PUBLISH
BEGIN:VEVENT
DTSTAMP:20260423T230440Z
UID:5-1279813@freedomhousehouston.org
DTSTART:20261101T170000Z
DTEND:20261101T180000Z
CLASS:PUBLIC
CREATED:20260423T160709
DESCRIPTION:Sunday Worship
LAST-MODIFIED:20260423T160709
LOCATION:
SUMMARY:Sunday Worship
URL;VALUE=URI:https://www.freedomhousehouston.org/events/sunday-worship/202
 6-11-01
END:VEVENT
END:VCALENDAR
