BEGIN:VCALENDAR
VERSION:2.0
PRODID:icalendar-ruby
CALSCALE:GREGORIAN
METHOD:PUBLISH
BEGIN:VEVENT
DTSTAMP:20260423T213836Z
UID:5-1279812@freedomhousehouston.org
DTSTART:20261025T160000Z
DTEND:20261025T170000Z
CLASS:PUBLIC
CREATED:20260423T160709
DESCRIPTION:Sunday Worship
LAST-MODIFIED:20260423T160709
LOCATION:
SUMMARY:Sunday Worship
URL;VALUE=URI:https://www.freedomhousehouston.org/events/sunday-worship/202
 6-10-25
END:VEVENT
END:VCALENDAR
