BEGIN:VCALENDAR
VERSION:2.0
PRODID:icalendar-ruby
CALSCALE:GREGORIAN
METHOD:PUBLISH
BEGIN:VEVENT
DTSTAMP:20260423T181156Z
UID:5-1279431@freedomhousehouston.org
DTSTART:20261011T160000Z
DTEND:20261011T170000Z
CLASS:PUBLIC
CREATED:20260423T131149
DESCRIPTION:Sunday Worship
LAST-MODIFIED:20260423T131149
LOCATION:
SUMMARY:Sunday Worship
URL;VALUE=URI:https://www.freedomhousehouston.org/events/sunday-worship/202
 6-10-11
END:VEVENT
END:VCALENDAR
