BEGIN:VCALENDAR
VERSION:2.0
PRODID:icalendar-ruby
CALSCALE:GREGORIAN
METHOD:PUBLISH
BEGIN:VEVENT
DTSTAMP:20260423T163433Z
UID:5-1279051@freedomhousehouston.org
DTSTART:20261004T160000Z
DTEND:20261004T170000Z
CLASS:PUBLIC
CREATED:20260423T101536
DESCRIPTION:Sunday Worship
LAST-MODIFIED:20260423T101536
LOCATION:
SUMMARY:Sunday Worship
URL;VALUE=URI:https://www.freedomhousehouston.org/events/sunday-worship/202
 6-10-04
END:VEVENT
END:VCALENDAR
