BEGIN:VCALENDAR
VERSION:2.0
PRODID:icalendar-ruby
CALSCALE:GREGORIAN
METHOD:PUBLISH
BEGIN:VEVENT
DTSTAMP:20260423T011903Z
UID:5-1277905@freedomhousehouston.org
DTSTART:20260802T160000Z
DTEND:20260802T170000Z
CLASS:PUBLIC
CREATED:20260422T185840
DESCRIPTION:Sunday Worship
LAST-MODIFIED:20260422T185840
LOCATION:
SUMMARY:Sunday Worship
URL;VALUE=URI:https://www.freedomhousehouston.org/events/sunday-worship/202
 6-08-02
END:VEVENT
END:VCALENDAR
