BEGIN:VCALENDAR
VERSION:2.0
PRODID:icalendar-ruby
CALSCALE:GREGORIAN
METHOD:PUBLISH
BEGIN:VEVENT
DTSTAMP:20260422T214539Z
UID:5-1277524@freedomhousehouston.org
DTSTART:20260719T160000Z
DTEND:20260719T170000Z
CLASS:PUBLIC
CREATED:20260422T160656
DESCRIPTION:Sunday Worship
LAST-MODIFIED:20260422T160656
LOCATION:
SUMMARY:Sunday Worship
URL;VALUE=URI:https://www.freedomhousehouston.org/events/sunday-worship/202
 6-07-19
END:VEVENT
END:VCALENDAR
