BEGIN:VCALENDAR
VERSION:2.0
PRODID:icalendar-ruby
CALSCALE:GREGORIAN
METHOD:PUBLISH
BEGIN:VEVENT
DTSTAMP:20260422T200740Z
UID:5-1277144@freedomhousehouston.org
DTSTART:20260712T160000Z
DTEND:20260712T170000Z
CLASS:PUBLIC
CREATED:20260422T131150
DESCRIPTION:Sunday Worship
LAST-MODIFIED:20260422T131150
LOCATION:
SUMMARY:Sunday Worship
URL;VALUE=URI:https://www.freedomhousehouston.org/events/sunday-worship/202
 6-07-12
END:VEVENT
END:VCALENDAR
