BEGIN:VCALENDAR
VERSION:2.0
PRODID:icalendar-ruby
CALSCALE:GREGORIAN
METHOD:PUBLISH
BEGIN:VEVENT
DTSTAMP:20260422T151834Z
UID:5-1276762@freedomhousehouston.org
DTSTART:20260621T160000Z
DTEND:20260621T170000Z
CLASS:PUBLIC
CREATED:20260422T101654
DESCRIPTION:Sunday Worship
LAST-MODIFIED:20260422T101654
LOCATION:
SUMMARY:Sunday Worship
URL;VALUE=URI:https://www.freedomhousehouston.org/events/sunday-worship/202
 6-06-21
END:VEVENT
END:VCALENDAR
