BEGIN:VCALENDAR
VERSION:2.0
PRODID:icalendar-ruby
CALSCALE:GREGORIAN
METHOD:PUBLISH
BEGIN:VEVENT
DTSTAMP:20260422T100721Z
UID:5-1276001@freedomhousehouston.org
DTSTART:20260531T160000Z
DTEND:20260531T170000Z
CLASS:PUBLIC
CREATED:20260421T201530
DESCRIPTION:Sunday Worship
LAST-MODIFIED:20260421T201530
LOCATION:
SUMMARY:Sunday Worship
URL;VALUE=URI:https://www.freedomhousehouston.org/events/sunday-worship/202
 6-05-31
END:VEVENT
END:VCALENDAR
